BEGIN:VCALENDAR
VERSION:2.0
PRODID:-//Sorores Jesu Eucharistici - ECPv6.15.20//NONSGML v1.0//EN
CALSCALE:GREGORIAN
METHOD:PUBLISH
X-ORIGINAL-URL:https://sje.lt
X-WR-CALDESC:Events for Sorores Jesu Eucharistici
REFRESH-INTERVAL;VALUE=DURATION:PT1H
X-Robots-Tag:noindex
X-PUBLISHED-TTL:PT1H
BEGIN:VTIMEZONE
TZID:Europe/Vilnius
BEGIN:DAYLIGHT
TZOFFSETFROM:+0200
TZOFFSETTO:+0300
TZNAME:EEST
DTSTART:20250330T010000
END:DAYLIGHT
BEGIN:STANDARD
TZOFFSETFROM:+0300
TZOFFSETTO:+0200
TZNAME:EET
DTSTART:20251026T010000
END:STANDARD
BEGIN:DAYLIGHT
TZOFFSETFROM:+0200
TZOFFSETTO:+0300
TZNAME:EEST
DTSTART:20260329T010000
END:DAYLIGHT
BEGIN:STANDARD
TZOFFSETFROM:+0300
TZOFFSETTO:+0200
TZNAME:EET
DTSTART:20261025T010000
END:STANDARD
BEGIN:DAYLIGHT
TZOFFSETFROM:+0200
TZOFFSETTO:+0300
TZNAME:EEST
DTSTART:20270328T010000
END:DAYLIGHT
BEGIN:STANDARD
TZOFFSETFROM:+0300
TZOFFSETTO:+0200
TZNAME:EET
DTSTART:20271031T010000
END:STANDARD
END:VTIMEZONE
BEGIN:VEVENT
DTSTART;TZID=Europe/Vilnius:20260115T180000
DTEND;TZID=Europe/Vilnius:20260115T193000
DTSTAMP:20260421T055119
CREATED:20251014T205756Z
LAST-MODIFIED:20251014T205756Z
UID:2203-1768500000-1768505400@sje.lt
SUMMARY:2026 m. sausio 15 d. (13) ignacinės rekolekcijos padieniui „Prabundanti meilė“ (nuotoliniu būdu)
DESCRIPTION:Pagal šv. Ignaco dvasinių pratybų modelį kviečiame leistis į 27 savaites trunkančią maldos kelionę. Šios rekolekcijos yra puiki galimybė kiekvieną dieną gilinti savo asmeninį ryšį su Dievu\, nepaisant\, kur tuo metu būtumėte. Susitikimai vyks ketvirtadieniais 18.00–19.30 val. Užsiregistravus į nuotolines rekolekcijas\, bus atsiųsta prisijungimo nuoroda. Prisijunkite prie mūsų ir patirkite dvasinį atsinaujinimą per Dievo žodį\, kuris lydės Jus kiekvieną dieną! \nRekolekcijas ves Linda Ceple SJE\, grupeles moderuos SJE seserys ir pasauliečiai. \nDaugiau informacijos
URL:https://sje.lt/event/2026-m-sausio-15-d-13-ignacines-rekolekcijos-padieniui-prabundanti-meile-nuotoliniu-budu/
LOCATION:Online
CATEGORIES:Rekolekcijos (Online)
END:VEVENT
BEGIN:VEVENT
DTSTART;TZID=Europe/Vilnius:20260122T180000
DTEND;TZID=Europe/Vilnius:20260122T193000
DTSTAMP:20260421T055119
CREATED:20251014T205908Z
LAST-MODIFIED:20251014T205908Z
UID:2205-1769104800-1769110200@sje.lt
SUMMARY:2026 m. sausio 22 d. (14) ignacinės rekolekcijos padieniui „Prabundanti meilė“ (nuotoliniu būdu)
DESCRIPTION:Pagal šv. Ignaco dvasinių pratybų modelį kviečiame leistis į 27 savaites trunkančią maldos kelionę. Šios rekolekcijos yra puiki galimybė kiekvieną dieną gilinti savo asmeninį ryšį su Dievu\, nepaisant\, kur tuo metu būtumėte. Susitikimai vyks ketvirtadieniais 18.00–19.30 val. Užsiregistravus į nuotolines rekolekcijas\, bus atsiųsta prisijungimo nuoroda. Prisijunkite prie mūsų ir patirkite dvasinį atsinaujinimą per Dievo žodį\, kuris lydės Jus kiekvieną dieną! \nRekolekcijas ves Linda Ceple SJE\, grupeles moderuos SJE seserys ir pasauliečiai. \nDaugiau informacijos
URL:https://sje.lt/event/2026-m-sausio-22-d-14-ignacines-rekolekcijos-padieniui-prabundanti-meile-nuotoliniu-budu/
LOCATION:Online
CATEGORIES:Rekolekcijos (Online)
END:VEVENT
BEGIN:VEVENT
DTSTART;TZID=Europe/Vilnius:20260129T180000
DTEND;TZID=Europe/Vilnius:20260129T193000
DTSTAMP:20260421T055119
CREATED:20251014T205925Z
LAST-MODIFIED:20251014T205925Z
UID:2207-1769709600-1769715000@sje.lt
SUMMARY:2026 m. sausio 29 d. (15) ignacinės rekolekcijos padieniui „Prabundanti meilė“ (nuotoliniu būdu)
DESCRIPTION:Pagal šv. Ignaco dvasinių pratybų modelį kviečiame leistis į 27 savaites trunkančią maldos kelionę. Šios rekolekcijos yra puiki galimybė kiekvieną dieną gilinti savo asmeninį ryšį su Dievu\, nepaisant\, kur tuo metu būtumėte. Susitikimai vyks ketvirtadieniais 18.00–19.30 val. Užsiregistravus į nuotolines rekolekcijas\, bus atsiųsta prisijungimo nuoroda. Prisijunkite prie mūsų ir patirkite dvasinį atsinaujinimą per Dievo žodį\, kuris lydės Jus kiekvieną dieną! \nRekolekcijas ves Linda Ceple SJE\, grupeles moderuos SJE seserys ir pasauliečiai. \nDaugiau informacijos
URL:https://sje.lt/event/2026-m-sausio-29-d-15-ignacines-rekolekcijos-padieniui-prabundanti-meile-nuotoliniu-budu/
LOCATION:Online
CATEGORIES:Rekolekcijos (Online)
END:VEVENT
BEGIN:VEVENT
DTSTART;TZID=Europe/Vilnius:20260205T180000
DTEND;TZID=Europe/Vilnius:20260205T193000
DTSTAMP:20260421T055119
CREATED:20251014T205954Z
LAST-MODIFIED:20251014T205954Z
UID:2209-1770314400-1770319800@sje.lt
SUMMARY:2026 m. vasario 5 d. (16) ignacinės rekolekcijos padieniui „Prabundanti meilė“ (nuotoliniu būdu)
DESCRIPTION:Pagal šv. Ignaco dvasinių pratybų modelį kviečiame leistis į 27 savaites trunkančią maldos kelionę. Šios rekolekcijos yra puiki galimybė kiekvieną dieną gilinti savo asmeninį ryšį su Dievu\, nepaisant\, kur tuo metu būtumėte. Susitikimai vyks ketvirtadieniais 18.00–19.30 val. Užsiregistravus į nuotolines rekolekcijas\, bus atsiųsta prisijungimo nuoroda. Prisijunkite prie mūsų ir patirkite dvasinį atsinaujinimą per Dievo žodį\, kuris lydės Jus kiekvieną dieną! \nRekolekcijas ves Linda Ceple SJE\, grupeles moderuos SJE seserys ir pasauliečiai. \nDaugiau informacijos
URL:https://sje.lt/event/2026-m-vasario-5-d-16-ignacines-rekolekcijos-padieniui-prabundanti-meile-nuotoliniu-budu/
LOCATION:Online
CATEGORIES:Rekolekcijos (Online)
END:VEVENT
BEGIN:VEVENT
DTSTART;TZID=Europe/Vilnius:20260212T180000
DTEND;TZID=Europe/Vilnius:20260212T193000
DTSTAMP:20260421T055119
CREATED:20251014T210021Z
LAST-MODIFIED:20251014T210021Z
UID:2211-1770919200-1770924600@sje.lt
SUMMARY:2026 m. vasario 12 d. (17) ignacinės rekolekcijos padieniui „Prabundanti meilė“ (nuotoliniu būdu)
DESCRIPTION:Pagal šv. Ignaco dvasinių pratybų modelį kviečiame leistis į 27 savaites trunkančią maldos kelionę. Šios rekolekcijos yra puiki galimybė kiekvieną dieną gilinti savo asmeninį ryšį su Dievu\, nepaisant\, kur tuo metu būtumėte. Susitikimai vyks ketvirtadieniais 18.00–19.30 val. Užsiregistravus į nuotolines rekolekcijas\, bus atsiųsta prisijungimo nuoroda. Prisijunkite prie mūsų ir patirkite dvasinį atsinaujinimą per Dievo žodį\, kuris lydės Jus kiekvieną dieną! \nRekolekcijas ves Linda Ceple SJE\, grupeles moderuos SJE seserys ir pasauliečiai. \nDaugiau informacijos
URL:https://sje.lt/event/2026-m-vasario-12-d-17-ignacines-rekolekcijos-padieniui-prabundanti-meile-nuotoliniu-budu/
LOCATION:Online
CATEGORIES:Rekolekcijos (Online)
END:VEVENT
BEGIN:VEVENT
DTSTART;TZID=Europe/Vilnius:20260219T180000
DTEND;TZID=Europe/Vilnius:20260219T193000
DTSTAMP:20260421T055119
CREATED:20251014T210037Z
LAST-MODIFIED:20251014T210037Z
UID:2213-1771524000-1771529400@sje.lt
SUMMARY:2026 m. vasario 19 d. (18) ignacinės rekolekcijos padieniui „Prabundanti meilė“ (nuotoliniu būdu)
DESCRIPTION:Pagal šv. Ignaco dvasinių pratybų modelį kviečiame leistis į 27 savaites trunkančią maldos kelionę. Šios rekolekcijos yra puiki galimybė kiekvieną dieną gilinti savo asmeninį ryšį su Dievu\, nepaisant\, kur tuo metu būtumėte. Susitikimai vyks ketvirtadieniais 18.00–19.30 val. Užsiregistravus į nuotolines rekolekcijas\, bus atsiųsta prisijungimo nuoroda. Prisijunkite prie mūsų ir patirkite dvasinį atsinaujinimą per Dievo žodį\, kuris lydės Jus kiekvieną dieną! \nRekolekcijas ves Linda Ceple SJE\, grupeles moderuos SJE seserys ir pasauliečiai. \nDaugiau informacijos
URL:https://sje.lt/event/2026-m-vasario-19-d-18-ignacines-rekolekcijos-padieniui-prabundanti-meile-nuotoliniu-budu/
LOCATION:Online
CATEGORIES:Rekolekcijos (Online)
END:VEVENT
BEGIN:VEVENT
DTSTART;TZID=Europe/Vilnius:20260226T180000
DTEND;TZID=Europe/Vilnius:20260226T193000
DTSTAMP:20260421T055119
CREATED:20251014T210055Z
LAST-MODIFIED:20251014T210055Z
UID:2215-1772128800-1772134200@sje.lt
SUMMARY:2026 m. vasario 26 d. (19) ignacinės rekolekcijos padieniui „Prabundanti meilė“ (nuotoliniu būdu)
DESCRIPTION:Pagal šv. Ignaco dvasinių pratybų modelį kviečiame leistis į 27 savaites trunkančią maldos kelionę. Šios rekolekcijos yra puiki galimybė kiekvieną dieną gilinti savo asmeninį ryšį su Dievu\, nepaisant\, kur tuo metu būtumėte. Susitikimai vyks ketvirtadieniais 18.00–19.30 val. Užsiregistravus į nuotolines rekolekcijas\, bus atsiųsta prisijungimo nuoroda. Prisijunkite prie mūsų ir patirkite dvasinį atsinaujinimą per Dievo žodį\, kuris lydės Jus kiekvieną dieną! \nRekolekcijas ves Linda Ceple SJE\, grupeles moderuos SJE seserys ir pasauliečiai. \nDaugiau informacijos
URL:https://sje.lt/event/2026-m-vasario-26-d-19-ignacines-rekolekcijos-padieniui-prabundanti-meile-nuotoliniu-budu/
LOCATION:Online
CATEGORIES:Rekolekcijos (Online)
END:VEVENT
BEGIN:VEVENT
DTSTART;TZID=Europe/Vilnius:20260305T180000
DTEND;TZID=Europe/Vilnius:20260305T193000
DTSTAMP:20260421T055119
CREATED:20251014T210142Z
LAST-MODIFIED:20251014T210142Z
UID:2217-1772733600-1772739000@sje.lt
SUMMARY:2026 m. kovo 5 d. (20) ignacinės rekolekcijos padieniui „Prabundanti meilė“ (nuotoliniu būdu)
DESCRIPTION:Pagal šv. Ignaco dvasinių pratybų modelį kviečiame leistis į 27 savaites trunkančią maldos kelionę. Šios rekolekcijos yra puiki galimybė kiekvieną dieną gilinti savo asmeninį ryšį su Dievu\, nepaisant\, kur tuo metu būtumėte. Susitikimai vyks ketvirtadieniais 18.00–19.30 val. Užsiregistravus į nuotolines rekolekcijas\, bus atsiųsta prisijungimo nuoroda. Prisijunkite prie mūsų ir patirkite dvasinį atsinaujinimą per Dievo žodį\, kuris lydės Jus kiekvieną dieną! \nRekolekcijas ves Linda Ceple SJE\, grupeles moderuos SJE seserys ir pasauliečiai. \nDaugiau informacijos
URL:https://sje.lt/event/2026-m-kovo-5-d-20-ignacines-rekolekcijos-padieniui-prabundanti-meile-nuotoliniu-budu/
LOCATION:Online
CATEGORIES:Rekolekcijos (Online)
END:VEVENT
BEGIN:VEVENT
DTSTART;TZID=Europe/Vilnius:20260312T180000
DTEND;TZID=Europe/Vilnius:20260312T193000
DTSTAMP:20260421T055119
CREATED:20251014T210200Z
LAST-MODIFIED:20251014T210200Z
UID:2219-1773338400-1773343800@sje.lt
SUMMARY:2026 m. kovo 12 d. (21) ignacinės rekolekcijos padieniui „Prabundanti meilė“ (nuotoliniu būdu)
DESCRIPTION:Pagal šv. Ignaco dvasinių pratybų modelį kviečiame leistis į 27 savaites trunkančią maldos kelionę. Šios rekolekcijos yra puiki galimybė kiekvieną dieną gilinti savo asmeninį ryšį su Dievu\, nepaisant\, kur tuo metu būtumėte. Susitikimai vyks ketvirtadieniais 18.00–19.30 val. Užsiregistravus į nuotolines rekolekcijas\, bus atsiųsta prisijungimo nuoroda. Prisijunkite prie mūsų ir patirkite dvasinį atsinaujinimą per Dievo žodį\, kuris lydės Jus kiekvieną dieną! \nRekolekcijas ves Linda Ceple SJE\, grupeles moderuos SJE seserys ir pasauliečiai. \nDaugiau informacijos
URL:https://sje.lt/event/2026-m-kovo-12-d-21-ignacines-rekolekcijos-padieniui-prabundanti-meile-nuotoliniu-budu/
LOCATION:Online
CATEGORIES:Rekolekcijos (Online)
END:VEVENT
BEGIN:VEVENT
DTSTART;TZID=Europe/Vilnius:20260319T180000
DTEND;TZID=Europe/Vilnius:20260319T193000
DTSTAMP:20260421T055119
CREATED:20251014T210222Z
LAST-MODIFIED:20251014T210222Z
UID:2221-1773943200-1773948600@sje.lt
SUMMARY:2026 m. kovo 19 d. (22) ignacinės rekolekcijos padieniui „Prabundanti meilė“ (nuotoliniu būdu)
DESCRIPTION:Pagal šv. Ignaco dvasinių pratybų modelį kviečiame leistis į 27 savaites trunkančią maldos kelionę. Šios rekolekcijos yra puiki galimybė kiekvieną dieną gilinti savo asmeninį ryšį su Dievu\, nepaisant\, kur tuo metu būtumėte. Susitikimai vyks ketvirtadieniais 18.00–19.30 val. Užsiregistravus į nuotolines rekolekcijas\, bus atsiųsta prisijungimo nuoroda. Prisijunkite prie mūsų ir patirkite dvasinį atsinaujinimą per Dievo žodį\, kuris lydės Jus kiekvieną dieną! \nRekolekcijas ves Linda Ceple SJE\, grupeles moderuos SJE seserys ir pasauliečiai. \nDaugiau informacijos
URL:https://sje.lt/event/2026-m-kovo-19-d-22-ignacines-rekolekcijos-padieniui-prabundanti-meile-nuotoliniu-budu/
LOCATION:Online
CATEGORIES:Rekolekcijos (Online)
END:VEVENT
BEGIN:VEVENT
DTSTART;TZID=Europe/Vilnius:20260326T180000
DTEND;TZID=Europe/Vilnius:20260326T193000
DTSTAMP:20260421T055119
CREATED:20251014T210241Z
LAST-MODIFIED:20251014T210241Z
UID:2223-1774548000-1774553400@sje.lt
SUMMARY:2026 m. kovo 26 d. (23) ignacinės rekolekcijos padieniui „Prabundanti meilė“ (nuotoliniu būdu)
DESCRIPTION:Pagal šv. Ignaco dvasinių pratybų modelį kviečiame leistis į 27 savaites trunkančią maldos kelionę. Šios rekolekcijos yra puiki galimybė kiekvieną dieną gilinti savo asmeninį ryšį su Dievu\, nepaisant\, kur tuo metu būtumėte. Susitikimai vyks ketvirtadieniais 18.00–19.30 val. Užsiregistravus į nuotolines rekolekcijas\, bus atsiųsta prisijungimo nuoroda. Prisijunkite prie mūsų ir patirkite dvasinį atsinaujinimą per Dievo žodį\, kuris lydės Jus kiekvieną dieną! \nRekolekcijas ves Linda Ceple SJE\, grupeles moderuos SJE seserys ir pasauliečiai. \nDaugiau informacijos
URL:https://sje.lt/event/2026-m-kovo-26-d-23-ignacines-rekolekcijos-padieniui-prabundanti-meile-nuotoliniu-budu/
LOCATION:Online
CATEGORIES:Rekolekcijos (Online)
END:VEVENT
BEGIN:VEVENT
DTSTART;TZID=Europe/Vilnius:20260402T180000
DTEND;TZID=Europe/Vilnius:20260402T193000
DTSTAMP:20260421T055119
CREATED:20251014T210312Z
LAST-MODIFIED:20251014T210312Z
UID:2225-1775152800-1775158200@sje.lt
SUMMARY:2026 m. balandžio 2 d. (24) ignacinės rekolekcijos padieniui „Prabundanti meilė“ (nuotoliniu būdu)
DESCRIPTION:Pagal šv. Ignaco dvasinių pratybų modelį kviečiame leistis į 27 savaites trunkančią maldos kelionę. Šios rekolekcijos yra puiki galimybė kiekvieną dieną gilinti savo asmeninį ryšį su Dievu\, nepaisant\, kur tuo metu būtumėte. Susitikimai vyks ketvirtadieniais 18.00–19.30 val. Užsiregistravus į nuotolines rekolekcijas\, bus atsiųsta prisijungimo nuoroda. Prisijunkite prie mūsų ir patirkite dvasinį atsinaujinimą per Dievo žodį\, kuris lydės Jus kiekvieną dieną! \nRekolekcijas ves Linda Ceple SJE\, grupeles moderuos SJE seserys ir pasauliečiai. \nDaugiau informacijos
URL:https://sje.lt/event/2026-m-balandzio-2-d-24-ignacines-rekolekcijos-padieniui-prabundanti-meile-nuotoliniu-budu/
LOCATION:Online
CATEGORIES:Rekolekcijos (Online)
END:VEVENT
BEGIN:VEVENT
DTSTART;TZID=Europe/Vilnius:20260409T180000
DTEND;TZID=Europe/Vilnius:20260409T193000
DTSTAMP:20260421T055119
CREATED:20251014T210343Z
LAST-MODIFIED:20251014T210343Z
UID:2227-1775757600-1775763000@sje.lt
SUMMARY:2026 m. balandžio 9 d. (25) ignacinės rekolekcijos padieniui „Prabundanti meilė“ (nuotoliniu būdu)
DESCRIPTION:Pagal šv. Ignaco dvasinių pratybų modelį kviečiame leistis į 27 savaites trunkančią maldos kelionę. Šios rekolekcijos yra puiki galimybė kiekvieną dieną gilinti savo asmeninį ryšį su Dievu\, nepaisant\, kur tuo metu būtumėte. Susitikimai vyks ketvirtadieniais 18.00–19.30 val. Užsiregistravus į nuotolines rekolekcijas\, bus atsiųsta prisijungimo nuoroda. Prisijunkite prie mūsų ir patirkite dvasinį atsinaujinimą per Dievo žodį\, kuris lydės Jus kiekvieną dieną! \nRekolekcijas ves Linda Ceple SJE\, grupeles moderuos SJE seserys ir pasauliečiai. \nDaugiau informacijos
URL:https://sje.lt/event/2026-m-balandzio-9-d-25-ignacines-rekolekcijos-padieniui-prabundanti-meile-nuotoliniu-budu/
LOCATION:Online
CATEGORIES:Rekolekcijos (Online)
END:VEVENT
BEGIN:VEVENT
DTSTART;TZID=Europe/Vilnius:20260416T180000
DTEND;TZID=Europe/Vilnius:20260416T193000
DTSTAMP:20260421T055119
CREATED:20251014T210402Z
LAST-MODIFIED:20251014T210402Z
UID:2229-1776362400-1776367800@sje.lt
SUMMARY:2026 m. balandžio 16 d. (26) ignacinės rekolekcijos padieniui „Prabundanti meilė“ (nuotoliniu būdu)
DESCRIPTION:Pagal šv. Ignaco dvasinių pratybų modelį kviečiame leistis į 27 savaites trunkančią maldos kelionę. Šios rekolekcijos yra puiki galimybė kiekvieną dieną gilinti savo asmeninį ryšį su Dievu\, nepaisant\, kur tuo metu būtumėte. Susitikimai vyks ketvirtadieniais 18.00–19.30 val. Užsiregistravus į nuotolines rekolekcijas\, bus atsiųsta prisijungimo nuoroda. Prisijunkite prie mūsų ir patirkite dvasinį atsinaujinimą per Dievo žodį\, kuris lydės Jus kiekvieną dieną! \nRekolekcijas ves Linda Ceple SJE\, grupeles moderuos SJE seserys ir pasauliečiai. \nDaugiau informacijos
URL:https://sje.lt/event/2026-m-balandzio-16-d-26-ignacines-rekolekcijos-padieniui-prabundanti-meile-nuotoliniu-budu/
LOCATION:Online
CATEGORIES:Rekolekcijos (Online)
END:VEVENT
BEGIN:VEVENT
DTSTART;TZID=Europe/Vilnius:20260423T180000
DTEND;TZID=Europe/Vilnius:20260423T193000
DTSTAMP:20260421T055119
CREATED:20251014T210422Z
LAST-MODIFIED:20251014T210422Z
UID:2231-1776967200-1776972600@sje.lt
SUMMARY:2026 m. balandžio 23 d. (27) ignacinės rekolekcijos padieniui „Prabundanti meilė“ (nuotoliniu būdu)
DESCRIPTION:Pagal šv. Ignaco dvasinių pratybų modelį kviečiame leistis į 27 savaites trunkančią maldos kelionę. Šios rekolekcijos yra puiki galimybė kiekvieną dieną gilinti savo asmeninį ryšį su Dievu\, nepaisant\, kur tuo metu būtumėte. Susitikimai vyks ketvirtadieniais 18.00–19.30 val. Užsiregistravus į nuotolines rekolekcijas\, bus atsiųsta prisijungimo nuoroda. Prisijunkite prie mūsų ir patirkite dvasinį atsinaujinimą per Dievo žodį\, kuris lydės Jus kiekvieną dieną! \nRekolekcijas ves Linda Ceple SJE\, grupeles moderuos SJE seserys ir pasauliečiai. \nDaugiau informacijos
URL:https://sje.lt/event/2026-m-balandzio-23-d-27-ignacines-rekolekcijos-padieniui-prabundanti-meile-nuotoliniu-budu/
LOCATION:Online
CATEGORIES:Rekolekcijos (Online)
END:VEVENT
END:VCALENDAR